BEGIN:VCALENDAR
VERSION:2.0
PRODID:-//JAC Ballet - Escuela de Ballet y Danza en Madrid - ECPv6.15.20//NONSGML v1.0//EN
CALSCALE:GREGORIAN
METHOD:PUBLISH
X-WR-CALNAME:JAC Ballet - Escuela de Ballet y Danza en Madrid
X-ORIGINAL-URL:https://www.jacballet.com
X-WR-CALDESC:Eventos para JAC Ballet - Escuela de Ballet y Danza en Madrid
REFRESH-INTERVAL;VALUE=DURATION:PT1H
X-Robots-Tag:noindex
X-PUBLISHED-TTL:PT1H
BEGIN:VTIMEZONE
TZID:UTC
BEGIN:STANDARD
TZOFFSETFROM:+0000
TZOFFSETTO:+0000
TZNAME:UTC
DTSTART:20250101T000000
END:STANDARD
END:VTIMEZONE
BEGIN:VEVENT
DTSTART;VALUE=DATE:20260724
DTEND;VALUE=DATE:20260725
DTSTAMP:20260423T161007
CREATED:20250821T143843Z
LAST-MODIFIED:20250821T143843Z
UID:4204-1784851200-1784937599@www.jacballet.com
SUMMARY:Fin de Curso de verano
DESCRIPTION:Fin de Curso de verano
URL:https://www.jacballet.com/event/fin-de-curso-de-verano/
CATEGORIES:calendario escolar
END:VEVENT
END:VCALENDAR